Package: MethReg Version: 1.20.0 Command: /Library/Frameworks/R.framework/Resources/bin/R CMD build --keep-empty-dirs --no-resave-data MethReg StartedAt: 2025-11-10 16:57:56 -0500 (Mon, 10 Nov 2025) EndedAt: 2025-11-10 17:02:31 -0500 (Mon, 10 Nov 2025) EllapsedTime: 275.1 seconds RetCode: 0 Status: OK PackageFile: MethReg_1.20.0.tar.gz PackageFileSize: 5.388 MiB