Package: MetaboSignal Version: 1.40.0 Command: rm -rf MetaboSignal.buildbin-libdir && mkdir MetaboSignal.buildbin-libdir && /Users/biocbuild/BBS/utils/build-universal.sh MetaboSignal_1.40.0.tar.gz /Library/Frameworks/R.framework/Resources/bin/R MetaboSignal.buildbin-libdir StartedAt: 2025-11-02 23:10:53 -0500 (Sun, 02 Nov 2025) EndedAt: 2025-11-02 23:11:16 -0500 (Sun, 02 Nov 2025) EllapsedTime: 23.4 seconds RetCode: 0 Status: OK PackageFile: MetaboSignal_1.40.0.tgz PackageFileSize: 2.65 MiB