Package: MetaboDynamics Version: 1.99.12 Command: /home/biocbuild/bbs-3.22-bioc/R/bin/R CMD build --keep-empty-dirs --no-resave-data --md5 MetaboDynamics StartedAt: 2025-10-24 18:42:22 -0400 (Fri, 24 Oct 2025) EndedAt: 2025-10-24 18:50:01 -0400 (Fri, 24 Oct 2025) EllapsedTime: 458.3 seconds RetCode: 0 Status: OK PackageFile: MetaboDynamics_1.99.12.tar.gz PackageFileSize: 7.18 MiB