Package: MetaboDynamics Version: 2.0.0 Command: /Library/Frameworks/R.framework/Resources/bin/R CMD INSTALL MetaboDynamics StartedAt: 2025-11-03 15:23:55 -0500 (Mon, 03 Nov 2025) EndedAt: 2025-11-03 15:29:04 -0500 (Mon, 03 Nov 2025) EllapsedTime: 309.1 seconds RetCode: 0 Status: OK