Package: MetaboDynamics Version: 1.99.12 Command: /Library/Frameworks/R.framework/Resources/bin/R CMD INSTALL MetaboDynamics StartedAt: 2025-10-24 15:14:05 -0400 (Fri, 24 Oct 2025) EndedAt: 2025-10-24 15:15:25 -0400 (Fri, 24 Oct 2025) EllapsedTime: 79.5 seconds RetCode: 0 Status: OK