Package: MetaboDynamics Version: 1.99.12 Command: /Library/Frameworks/R.framework/Resources/bin/R CMD build --keep-empty-dirs --no-resave-data MetaboDynamics StartedAt: 2025-10-24 16:57:38 -0400 (Fri, 24 Oct 2025) EndedAt: 2025-10-24 17:00:06 -0400 (Fri, 24 Oct 2025) EllapsedTime: 148.6 seconds RetCode: 0 Status: OK PackageFile: MetaboDynamics_1.99.12.tar.gz PackageFileSize: 6.802 MiB