Package: MetaboDynamics Version: 1.99.12 Command: rm -rf MetaboDynamics.buildbin-libdir && mkdir MetaboDynamics.buildbin-libdir && /Users/biocbuild/BBS/utils/build-universal.sh MetaboDynamics_1.99.12.tar.gz /Library/Frameworks/R.framework/Resources/bin/R MetaboDynamics.buildbin-libdir StartedAt: 2025-10-24 23:08:57 -0400 (Fri, 24 Oct 2025) EndedAt: 2025-10-24 23:10:21 -0400 (Fri, 24 Oct 2025) EllapsedTime: 84.6 seconds RetCode: 0 Status: OK PackageFile: MetaboDynamics_1.99.12.tgz PackageFileSize: 7.909 MiB