Package: MetaboCoreUtils Version: 1.17.1 Command: /home/biocbuild/R/R/bin/R CMD build --keep-empty-dirs --no-resave-data MetaboCoreUtils StartedAt: 2025-10-21 01:02:38 -0000 (Tue, 21 Oct 2025) EndedAt: 2025-10-21 01:02:57 -0000 (Tue, 21 Oct 2025) EllapsedTime: 19.0 seconds RetCode: 0 Status: OK PackageFile: MetaboCoreUtils_1.17.1.tar.gz PackageFileSize: 936.3 KiB