Package: MetaboCoreUtils Version: 1.17.1 Command: /home/biocbuild/bbs-3.22-bioc/R/bin/R CMD INSTALL MetaboCoreUtils StartedAt: 2025-10-24 15:24:01 -0400 (Fri, 24 Oct 2025) EndedAt: 2025-10-24 15:24:08 -0400 (Fri, 24 Oct 2025) EllapsedTime: 7.0 seconds RetCode: 0 Status: OK