Package: MetaboCoreUtils Version: 1.17.1 Command: /home/biocbuild/bbs-3.22-bioc/R/bin/R CMD build --keep-empty-dirs --no-resave-data --md5 MetaboCoreUtils StartedAt: 2025-10-24 18:42:09 -0400 (Fri, 24 Oct 2025) EndedAt: 2025-10-24 18:42:22 -0400 (Fri, 24 Oct 2025) EllapsedTime: 13.0 seconds RetCode: 0 Status: OK PackageFile: MetaboCoreUtils_1.17.1.tar.gz PackageFileSize: 1.281 MiB