Package: MetaboCoreUtils Version: 1.17.1 Command: /Library/Frameworks/R.framework/Resources/bin/R CMD INSTALL MetaboCoreUtils StartedAt: 2025-10-24 15:10:03 -0400 (Fri, 24 Oct 2025) EndedAt: 2025-10-24 15:10:06 -0400 (Fri, 24 Oct 2025) EllapsedTime: 3.0 seconds RetCode: 0 Status: OK