Package: MetaboCoreUtils Version: 1.18.0 Command: /Library/Frameworks/R.framework/Resources/bin/R CMD check --install=check:MetaboCoreUtils.install-out.txt --library=/Library/Frameworks/R.framework/Resources/library --no-vignettes --timings MetaboCoreUtils_1.18.0.tar.gz StartedAt: 2025-10-31 20:39:22 -0400 (Fri, 31 Oct 2025) EndedAt: 2025-10-31 20:39:46 -0400 (Fri, 31 Oct 2025) EllapsedTime: 24.4 seconds RetCode: 0 Status: OK CheckDir: MetaboCoreUtils.Rcheck Warnings: 0