Package: MetaboAnnotation Version: 1.14.0 Command: /home/biocbuild/R/R/bin/R CMD INSTALL MetaboAnnotation StartedAt: 2025-11-20 22:28:12 -0000 (Thu, 20 Nov 2025) EndedAt: 2025-11-20 22:29:09 -0000 (Thu, 20 Nov 2025) EllapsedTime: 57.0 seconds RetCode: 0 Status: OK