Package: MetaboAnnotation Version: 1.14.0 Command: /home/biocbuild/R/R/bin/R CMD build --keep-empty-dirs --no-resave-data MetaboAnnotation StartedAt: 2025-11-21 03:43:41 -0000 (Fri, 21 Nov 2025) EndedAt: 2025-11-21 03:45:52 -0000 (Fri, 21 Nov 2025) EllapsedTime: 130.0 seconds RetCode: 0 Status: OK PackageFile: MetaboAnnotation_1.14.0.tar.gz PackageFileSize: 1.257 MiB