Package: MetaboAnnotation Version: 1.13.3 Command: /home/biocbuild/bbs-3.22-bioc/R/bin/R CMD check --install=check:MetaboAnnotation.install-out.txt --library=/home/biocbuild/bbs-3.22-bioc/R/site-library --timings MetaboAnnotation_1.13.3.tar.gz StartedAt: 2025-10-25 01:17:35 -0400 (Sat, 25 Oct 2025) EndedAt: 2025-10-25 01:23:46 -0400 (Sat, 25 Oct 2025) EllapsedTime: 370.4 seconds RetCode: 0 Status: OK CheckDir: MetaboAnnotation.Rcheck Warnings: 0