Package: MetaboAnnotation Version: 1.13.3 Command: /Library/Frameworks/R.framework/Resources/bin/R CMD build --keep-empty-dirs --no-resave-data MetaboAnnotation StartedAt: 2025-10-24 17:42:20 -0400 (Fri, 24 Oct 2025) EndedAt: 2025-10-24 17:44:14 -0400 (Fri, 24 Oct 2025) EllapsedTime: 114.1 seconds RetCode: 0 Status: OK PackageFile: MetaboAnnotation_1.13.3.tar.gz PackageFileSize: 1.252 MiB