Package: MetaboAnnotation Version: 1.13.3 Command: rm -rf MetaboAnnotation.buildbin-libdir && mkdir MetaboAnnotation.buildbin-libdir && /Users/biocbuild/BBS/utils/build-universal.sh MetaboAnnotation_1.13.3.tar.gz /Library/Frameworks/R.framework/Resources/bin/R MetaboAnnotation.buildbin-libdir StartedAt: 2025-10-25 01:48:37 -0400 (Sat, 25 Oct 2025) EndedAt: 2025-10-25 01:49:37 -0400 (Sat, 25 Oct 2025) EllapsedTime: 60.2 seconds RetCode: 0 Status: OK PackageFile: MetaboAnnotation_1.13.3.tgz PackageFileSize: 1.761 MiB