Package: MetaboAnnotation Version: 1.13.3 Maintainer: Johannes Rainer MaintainerEmail: Johannes.Rainer at eurac.edu git_url: https://git.bioconductor.org/packages/MetaboAnnotation git_branch: devel git_last_commit: 4df51a5 git_last_commit_date: 2025-10-16 08:26:18 -0400 (Thu, 16 Oct 2025)