Package: MetaPhOR Version: 1.11.0 Command: /home/biocbuild/bbs-3.22-bioc/R/bin/R CMD build --keep-empty-dirs --no-resave-data --md5 MetaPhOR StartedAt: 2025-10-27 18:33:37 -0400 (Mon, 27 Oct 2025) EndedAt: 2025-10-27 18:46:39 -0400 (Mon, 27 Oct 2025) EllapsedTime: 782.6 seconds RetCode: 0 Status: OK PackageFile: MetaPhOR_1.11.0.tar.gz PackageFileSize: 2.702 MiB