Package: MetaPhOR Version: 1.12.0 Command: rm -rf MetaPhOR.buildbin-libdir && mkdir MetaPhOR.buildbin-libdir && /Users/biocbuild/BBS/utils/build-universal.sh MetaPhOR_1.12.0.tar.gz /Library/Frameworks/R.framework/Resources/bin/R MetaPhOR.buildbin-libdir StartedAt: 2025-11-03 23:11:02 -0500 (Mon, 03 Nov 2025) EndedAt: 2025-11-03 23:11:14 -0500 (Mon, 03 Nov 2025) EllapsedTime: 12.3 seconds RetCode: 0 Status: OK PackageFile: MetaPhOR_1.12.0.tgz PackageFileSize: 2.771 MiB