Package: MetaNeighbor Version: 1.30.0 Command: /home/biocbuild/bbs-3.22-bioc/R/bin/R CMD check --install=check:MetaNeighbor.install-out.txt --library=/home/biocbuild/bbs-3.22-bioc/R/site-library --timings MetaNeighbor_1.30.0.tar.gz StartedAt: 2025-11-03 01:32:12 -0500 (Mon, 03 Nov 2025) EndedAt: 2025-11-03 01:34:11 -0500 (Mon, 03 Nov 2025) EllapsedTime: 119.1 seconds RetCode: 1 Status: ERROR CheckDir: MetaNeighbor.Rcheck Warnings: NA