Package: MetaNeighbor Version: 1.29.0 Command: /Library/Frameworks/R.framework/Resources/bin/R CMD INSTALL MetaNeighbor StartedAt: 2025-10-24 15:30:02 -0400 (Fri, 24 Oct 2025) EndedAt: 2025-10-24 15:30:07 -0400 (Fri, 24 Oct 2025) EllapsedTime: 5.2 seconds RetCode: 0 Status: OK