Package: MetaNeighbor Version: 1.29.0 Command: rm -rf MetaNeighbor.buildbin-libdir && mkdir MetaNeighbor.buildbin-libdir && /Users/biocbuild/BBS/utils/build-universal.sh MetaNeighbor_1.29.0.tar.gz /Library/Frameworks/R.framework/Resources/bin/R MetaNeighbor.buildbin-libdir StartedAt: 2025-10-25 01:48:50 -0400 (Sat, 25 Oct 2025) EndedAt: 2025-10-25 01:48:58 -0400 (Sat, 25 Oct 2025) EllapsedTime: 8.1 seconds RetCode: 0 Status: OK PackageFile: MetaNeighbor_1.29.0.tgz PackageFileSize: 4.169 MiB