Package: MetaDICT Version: 1.0.0 Command: /home/biocbuild/bbs-3.22-bioc/R/bin/R CMD check --install=check:MetaDICT.install-out.txt --library=/home/biocbuild/bbs-3.22-bioc/R/site-library --timings MetaDICT_1.0.0.tar.gz StartedAt: 2025-11-03 01:31:35 -0500 (Mon, 03 Nov 2025) EndedAt: 2025-11-03 01:46:46 -0500 (Mon, 03 Nov 2025) EllapsedTime: 910.8 seconds RetCode: 0 Status: OK CheckDir: MetaDICT.Rcheck Warnings: 0