Package: MetaDICT Version: 1.0.0 Command: /Library/Frameworks/R.framework/Resources/bin/R CMD INSTALL MetaDICT StartedAt: 2025-10-31 15:20:38 -0400 (Fri, 31 Oct 2025) EndedAt: 2025-10-31 15:21:00 -0400 (Fri, 31 Oct 2025) EllapsedTime: 21.9 seconds RetCode: 0 Status: OK