Package: MetaDICT Version: 1.0.0 Command: /Library/Frameworks/R.framework/Resources/bin/R CMD build --keep-empty-dirs --no-resave-data MetaDICT StartedAt: 2025-10-30 17:32:49 -0400 (Thu, 30 Oct 2025) EndedAt: 2025-10-30 17:39:38 -0400 (Thu, 30 Oct 2025) EllapsedTime: 409.5 seconds RetCode: 0 Status: OK PackageFile: MetaDICT_1.0.0.tar.gz PackageFileSize: 2.201 MiB