Package: MetaDICT Version: 0.99.4 Command: /Library/Frameworks/R.framework/Resources/bin/R CMD INSTALL MetaDICT StartedAt: 2025-10-24 15:08:07 -0400 (Fri, 24 Oct 2025) EndedAt: 2025-10-24 15:08:11 -0400 (Fri, 24 Oct 2025) EllapsedTime: 4.0 seconds RetCode: 0 Status: OK