Package: MetaDICT Version: 0.99.4 Command: /Library/Frameworks/R.framework/Resources/bin/R CMD build --keep-empty-dirs --no-resave-data MetaDICT StartedAt: 2025-10-24 16:57:55 -0400 (Fri, 24 Oct 2025) EndedAt: 2025-10-24 16:59:25 -0400 (Fri, 24 Oct 2025) EllapsedTime: 90.0 seconds RetCode: 0 Status: OK PackageFile: MetaDICT_0.99.4.tar.gz PackageFileSize: 2.189 MiB