Package: MetaCyto Version: 1.32.0 Command: /Library/Frameworks/R.framework/Resources/bin/R CMD INSTALL MetaCyto StartedAt: 2025-10-29 21:29:25 -0400 (Wed, 29 Oct 2025) EndedAt: 2025-10-29 21:29:31 -0400 (Wed, 29 Oct 2025) EllapsedTime: 6.4 seconds RetCode: 0 Status: OK