Package: MetaCyto Version: 1.32.0 Command: /Library/Frameworks/R.framework/Resources/bin/R CMD build --keep-empty-dirs --no-resave-data MetaCyto StartedAt: 2025-10-29 23:20:29 -0400 (Wed, 29 Oct 2025) EndedAt: 2025-10-29 23:22:24 -0400 (Wed, 29 Oct 2025) EllapsedTime: 115.3 seconds RetCode: 0 Status: OK PackageFile: MetaCyto_1.32.0.tar.gz PackageFileSize: 1.024 MiB