Package: MetaCyto Version: 1.32.0 Maintainer: Zicheng Hu MaintainerEmail: zicheng.hu at ucsf.edu git_url: https://git.bioconductor.org/packages/MetaCyto git_branch: RELEASE_3_22 git_last_commit: f3c39a8 git_last_commit_date: 2025-10-29 10:42:00 -0400 (Wed, 29 Oct 2025)