Package: MetNet Version: 1.27.3 Command: /home/biocbuild/bbs-3.22-bioc/R/bin/R CMD INSTALL MetNet StartedAt: 2025-10-24 15:43:05 -0400 (Fri, 24 Oct 2025) EndedAt: 2025-10-24 15:43:32 -0400 (Fri, 24 Oct 2025) EllapsedTime: 26.1 seconds RetCode: 0 Status: OK