Package: MetNet Version: 1.27.3 Command: /home/biocbuild/bbs-3.22-bioc/R/bin/R CMD build --keep-empty-dirs --no-resave-data --md5 MetNet StartedAt: 2025-10-24 18:48:25 -0400 (Fri, 24 Oct 2025) EndedAt: 2025-10-24 18:49:10 -0400 (Fri, 24 Oct 2025) EllapsedTime: 45.0 seconds RetCode: 0 Status: OK PackageFile: MetNet_1.27.3.tar.gz PackageFileSize: 4.108 MiB