Package: MetNet Version: 1.27.3 Command: /Library/Frameworks/R.framework/Resources/bin/R CMD INSTALL MetNet StartedAt: 2025-10-24 15:20:48 -0400 (Fri, 24 Oct 2025) EndedAt: 2025-10-24 15:20:59 -0400 (Fri, 24 Oct 2025) EllapsedTime: 10.8 seconds RetCode: 0 Status: OK