Package: MetNet Version: 1.27.3 Command: /Library/Frameworks/R.framework/Resources/bin/R CMD build --keep-empty-dirs --no-resave-data MetNet StartedAt: 2025-10-24 17:01:02 -0400 (Fri, 24 Oct 2025) EndedAt: 2025-10-24 17:01:21 -0400 (Fri, 24 Oct 2025) EllapsedTime: 19.2 seconds RetCode: 0 Status: OK PackageFile: MetNet_1.27.3.tar.gz PackageFileSize: 4.1 MiB