Package: MetNet Version: 1.27.3 Command: rm -rf MetNet.buildbin-libdir && mkdir MetNet.buildbin-libdir && /Users/biocbuild/BBS/utils/build-universal.sh MetNet_1.27.3.tar.gz /Library/Frameworks/R.framework/Resources/bin/R MetNet.buildbin-libdir StartedAt: 2025-10-24 23:09:37 -0400 (Fri, 24 Oct 2025) EndedAt: 2025-10-24 23:09:50 -0400 (Fri, 24 Oct 2025) EllapsedTime: 12.2 seconds RetCode: 0 Status: OK PackageFile: MetNet_1.27.3.tgz PackageFileSize: 4.376 MiB