Package: MetMashR Version: 1.3.3 Command: /home/biocbuild/bbs-3.22-bioc/R/bin/R CMD INSTALL MetMashR StartedAt: 2025-10-24 15:42:41 -0400 (Fri, 24 Oct 2025) EndedAt: 2025-10-24 15:43:12 -0400 (Fri, 24 Oct 2025) EllapsedTime: 31.5 seconds RetCode: 0 Status: OK