Package: MetMashR Version: 1.3.3 Command: /home/biocbuild/bbs-3.22-bioc/R/bin/R CMD build --keep-empty-dirs --no-resave-data --md5 MetMashR StartedAt: 2025-10-24 18:48:25 -0400 (Fri, 24 Oct 2025) EndedAt: 2025-10-24 18:53:02 -0400 (Fri, 24 Oct 2025) EllapsedTime: 277.3 seconds RetCode: 0 Status: OK PackageFile: MetMashR_1.3.3.tar.gz PackageFileSize: 6.064 MiB