Package: MetCirc Version: 1.39.0 Command: /home/biocbuild/bbs-3.22-bioc/R/bin/R CMD INSTALL MetCirc StartedAt: 2025-10-24 15:25:08 -0400 (Fri, 24 Oct 2025) EndedAt: 2025-10-24 15:25:24 -0400 (Fri, 24 Oct 2025) EllapsedTime: 15.7 seconds RetCode: 0 Status: OK