Package: MetCirc Version: 1.40.0 Command: /Library/Frameworks/R.framework/Resources/bin/R CMD INSTALL MetCirc StartedAt: 2025-11-10 15:07:45 -0500 (Mon, 10 Nov 2025) EndedAt: 2025-11-10 15:07:51 -0500 (Mon, 10 Nov 2025) EllapsedTime: 6.2 seconds RetCode: 0 Status: OK