Package: MesKit Version: 1.19.0 Command: /home/biocbuild/bbs-3.22-bioc/R/bin/R CMD INSTALL MesKit StartedAt: 2025-10-27 15:33:18 -0400 (Mon, 27 Oct 2025) EndedAt: 2025-10-27 15:33:39 -0400 (Mon, 27 Oct 2025) EllapsedTime: 21.4 seconds RetCode: 0 Status: OK