Package: MesKit Version: 1.19.0 Command: /Library/Frameworks/R.framework/Resources/bin/R CMD build --keep-empty-dirs --no-resave-data MesKit StartedAt: 2025-10-24 17:42:08 -0400 (Fri, 24 Oct 2025) EndedAt: 2025-10-24 17:43:56 -0400 (Fri, 24 Oct 2025) EllapsedTime: 107.4 seconds RetCode: 0 Status: OK PackageFile: MesKit_1.19.0.tar.gz PackageFileSize: 4.024 MiB