Package: MesKit Version: 1.19.0 Command: /Library/Frameworks/R.framework/Resources/bin/R CMD build --keep-empty-dirs --no-resave-data MesKit StartedAt: 2025-10-27 16:55:13 -0400 (Mon, 27 Oct 2025) EndedAt: 2025-10-27 16:55:53 -0400 (Mon, 27 Oct 2025) EllapsedTime: 40.5 seconds RetCode: 0 Status: OK PackageFile: MesKit_1.19.0.tar.gz PackageFileSize: 4.032 MiB