Package: Mergeomics Version: 1.37.0 Command: /home/biocbuild/bbs-3.22-bioc/R/bin/R CMD INSTALL Mergeomics StartedAt: 2025-10-24 15:12:31 -0400 (Fri, 24 Oct 2025) EndedAt: 2025-10-24 15:12:40 -0400 (Fri, 24 Oct 2025) EllapsedTime: 9.8 seconds RetCode: 0 Status: OK