Package: Mergeomics Version: 1.37.0 Command: /Library/Frameworks/R.framework/Resources/bin/R CMD INSTALL Mergeomics StartedAt: 2025-10-24 15:12:06 -0400 (Fri, 24 Oct 2025) EndedAt: 2025-10-24 15:12:27 -0400 (Fri, 24 Oct 2025) EllapsedTime: 20.2 seconds RetCode: 0 Status: OK