Package: Mergeomics Version: 1.37.0 Command: /Library/Frameworks/R.framework/Resources/bin/R CMD build --keep-empty-dirs --no-resave-data Mergeomics StartedAt: 2025-10-24 17:42:00 -0400 (Fri, 24 Oct 2025) EndedAt: 2025-10-24 17:48:21 -0400 (Fri, 24 Oct 2025) EllapsedTime: 380.2 seconds RetCode: 0 Status: OK PackageFile: Mergeomics_1.37.0.tar.gz PackageFileSize: 3.203 MiB