Package: MeasurementError.cor Version: 1.81.0 Command: /home/biocbuild/bbs-3.22-bioc/R/bin/R CMD INSTALL MeasurementError.cor StartedAt: 2025-10-27 15:04:58 -0400 (Mon, 27 Oct 2025) EndedAt: 2025-10-27 15:05:09 -0400 (Mon, 27 Oct 2025) EllapsedTime: 10.2 seconds RetCode: 0 Status: OK