Package: MeasurementError.cor Version: 1.81.0 Command: /home/biocbuild/bbs-3.22-bioc/R/bin/R CMD check --install=check:MeasurementError.cor.install-out.txt --library=/home/biocbuild/bbs-3.22-bioc/R/site-library --timings MeasurementError.cor_1.81.0.tar.gz StartedAt: 2025-10-25 01:13:00 -0400 (Sat, 25 Oct 2025) EndedAt: 2025-10-25 01:13:20 -0400 (Sat, 25 Oct 2025) EllapsedTime: 20.0 seconds RetCode: 0 Status: OK CheckDir: MeasurementError.cor.Rcheck Warnings: 0