Package: MeasurementError.cor Version: 1.81.0 Command: /Library/Frameworks/R.framework/Resources/bin/R CMD INSTALL MeasurementError.cor StartedAt: 2025-10-24 15:12:57 -0400 (Fri, 24 Oct 2025) EndedAt: 2025-10-24 15:13:43 -0400 (Fri, 24 Oct 2025) EllapsedTime: 46.2 seconds RetCode: 0 Status: OK