Package: MeasurementError.cor Version: 1.81.0 Command: /Library/Frameworks/R.framework/Resources/bin/R CMD build --keep-empty-dirs --no-resave-data MeasurementError.cor StartedAt: 2025-10-24 17:41:14 -0400 (Fri, 24 Oct 2025) EndedAt: 2025-10-24 17:41:25 -0400 (Fri, 24 Oct 2025) EllapsedTime: 11.4 seconds RetCode: 0 Status: OK PackageFile: MeasurementError.cor_1.81.0.tar.gz PackageFileSize: 150.5 KiB